BEGIN:VCALENDAR
VERSION:2.0
PRODID:-//Mississippi State Board of Examiners for Licensed Professional Counselors - ECPv5.5.0.1//NONSGML v1.0//EN
CALSCALE:GREGORIAN
METHOD:PUBLISH
X-WR-CALNAME:Mississippi State Board of Examiners for Licensed Professional Counselors
X-ORIGINAL-URL:https://www.lpc.ms.gov/wplpc
X-WR-CALDESC:Events for Mississippi State Board of Examiners for Licensed Professional Counselors
BEGIN:VTIMEZONE
TZID:America/Chicago
BEGIN:DAYLIGHT
TZOFFSETFROM:-0600
TZOFFSETTO:-0500
TZNAME:CDT
DTSTART:20210314T080000
END:DAYLIGHT
BEGIN:STANDARD
TZOFFSETFROM:-0500
TZOFFSETTO:-0600
TZNAME:CST
DTSTART:20211107T070000
END:STANDARD
END:VTIMEZONE
BEGIN:VEVENT
DTSTART;TZID=America/Chicago:20210521T090000
DTEND;TZID=America/Chicago:20210521T170000
DTSTAMP:20210421T030835
CREATED:20210209T214820Z
LAST-MODIFIED:20210210T150616Z
UID:6177-1621587600-1621616400@www.lpc.ms.gov
SUMMARY:Regular Board Meeting and Administrative Hearing
DESCRIPTION:Regular Board Meeting and Administrative Hearing for the purpose of hearing disciplinary matter \nMay 21\, 2021 at 9:00 a.m. \nRobert E. Lee Building\, Conference Room C\, 12th Floor
URL:https://www.lpc.ms.gov/wplpc/index.php/event/regular-board-meeting-6/
LOCATION:Robert E. Lee Building\, 239 North Lamar Street\, Suite 402\, Jackson\, MS\, 39201
CATEGORIES:Meeting
END:VEVENT
END:VCALENDAR