BEGIN:VCALENDAR
VERSION:2.0
PRODID:-//Mississippi State Board of Examiners for Licensed Professional Counselors - ECPv5.6.0//NONSGML v1.0//EN
CALSCALE:GREGORIAN
METHOD:PUBLISH
X-WR-CALNAME:Mississippi State Board of Examiners for Licensed Professional Counselors
X-ORIGINAL-URL:https://www.lpc.ms.gov/wplpc
X-WR-CALDESC:Events for Mississippi State Board of Examiners for Licensed Professional Counselors
BEGIN:VTIMEZONE
TZID:America/Chicago
BEGIN:DAYLIGHT
TZOFFSETFROM:-0600
TZOFFSETTO:-0500
TZNAME:CDT
DTSTART:20190310T080000
END:DAYLIGHT
BEGIN:STANDARD
TZOFFSETFROM:-0500
TZOFFSETTO:-0600
TZNAME:CST
DTSTART:20191103T070000
END:STANDARD
END:VTIMEZONE
BEGIN:VEVENT
DTSTART;TZID=America/Chicago:20191119T170000
DTEND;TZID=America/Chicago:20191119T190000
DTSTAMP:20210522T103232
CREATED:20191119T221818Z
LAST-MODIFIED:20191121T210255Z
UID:4387-1574182800-1574190000@www.lpc.ms.gov
SUMMARY:Emergency Called Board Meeting via Teleconference
DESCRIPTION:Available to the public at the Robert E. Lee Building\, 239 North Lamar Street\, Suite 402\, Jackson\, Mississippi
URL:https://www.lpc.ms.gov/wplpc/index.php/event/emergency-called-board-meeting-via-teleconference/
LOCATION:Robert E. Lee Building\, 239 North Lamar Street\, Suite 402\, Jackson\, MS\, 39201
END:VEVENT
END:VCALENDAR