BEGIN:VCALENDAR
VERSION:2.0
PRODID:-//Mississippi State Board of Examiners for Licensed Professional Counselors - ECPv5.9.1//NONSGML v1.0//EN
CALSCALE:GREGORIAN
METHOD:PUBLISH
X-WR-CALNAME:Mississippi State Board of Examiners for Licensed Professional Counselors
X-ORIGINAL-URL:https://www.lpc.ms.gov/wplpc
X-WR-CALDESC:Events for Mississippi State Board of Examiners for Licensed Professional Counselors
BEGIN:VTIMEZONE
TZID:America/Chicago
BEGIN:DAYLIGHT
TZOFFSETFROM:-0600
TZOFFSETTO:-0500
TZNAME:CDT
DTSTART:20200308T080000
END:DAYLIGHT
BEGIN:STANDARD
TZOFFSETFROM:-0500
TZOFFSETTO:-0600
TZNAME:CST
DTSTART:20201101T070000
END:STANDARD
END:VTIMEZONE
BEGIN:VEVENT
DTSTART;TZID=America/Chicago:20201204T090000
DTEND;TZID=America/Chicago:20201204T170000
DTSTAMP:20210922T000309
CREATED:20200925T184719Z
LAST-MODIFIED:20201201T142819Z
UID:5834-1607072400-1607101200@www.lpc.ms.gov
SUMMARY:Regular Board Meeting
DESCRIPTION:This meeting was tentatively scheduled as face to face/in person\, however\, it has been rescheduled to teleconference. It is available for the public by contacting the Board office at info@lpc.ms.gov for call-in instructions at least 24 hours in advance.”
URL:https://www.lpc.ms.gov/wplpc/event/regular-board-meeting-3/
LOCATION:Woolfolk Building (Hearing) and Robert E. Lee Building (Board Meeting)\, Jackson\, MS\, 39201
CATEGORIES:Meeting
END:VEVENT
END:VCALENDAR