BEGIN:VCALENDAR
VERSION:2.0
PRODID:-//Mississippi State Board of Examiners for Licensed Professional Counselors - ECPv5.9.2//NONSGML v1.0//EN
CALSCALE:GREGORIAN
METHOD:PUBLISH
X-WR-CALNAME:Mississippi State Board of Examiners for Licensed Professional Counselors
X-ORIGINAL-URL:https://www.lpc.ms.gov
X-WR-CALDESC:Events for Mississippi State Board of Examiners for Licensed Professional Counselors
BEGIN:VTIMEZONE
TZID:America/Chicago
BEGIN:DAYLIGHT
TZOFFSETFROM:-0600
TZOFFSETTO:-0500
TZNAME:CDT
DTSTART:20210314T080000
END:DAYLIGHT
BEGIN:STANDARD
TZOFFSETFROM:-0500
TZOFFSETTO:-0600
TZNAME:CST
DTSTART:20211107T070000
END:STANDARD
END:VTIMEZONE
BEGIN:VEVENT
DTSTART;VALUE=DATE:20211001
DTEND;VALUE=DATE:20211002
DTSTAMP:20211018T140238
CREATED:20210603T135630Z
LAST-MODIFIED:20210928T151013Z
UID:6348-1633046400-1633132799@www.lpc.ms.gov
SUMMARY:Special Called Board Meeting - Tentative
DESCRIPTION:Available to the public by emailing Board office at info@lpc.ms.gov at least 24 hours prior to the start of meeting.
URL:https://www.lpc.ms.gov/event/tentative-meeting/
CATEGORIES:Meeting
END:VEVENT
END:VCALENDAR